BEGIN:VCALENDAR
VERSION:2.0
PRODID:-//Scientiae - ECPv6.8.3//NONSGML v1.0//EN
CALSCALE:GREGORIAN
METHOD:PUBLISH
X-WR-CALNAME:Scientiae
X-ORIGINAL-URL:https://scientiae.nl
X-WR-CALDESC:Evenementen voor Scientiae
REFRESH-INTERVAL;VALUE=DURATION:PT1H
X-Robots-Tag:noindex
X-PUBLISHED-TTL:PT1H
BEGIN:VTIMEZONE
TZID:Europe/Amsterdam
BEGIN:DAYLIGHT
TZOFFSETFROM:+0100
TZOFFSETTO:+0200
TZNAME:CEST
DTSTART:20250330T010000
END:DAYLIGHT
BEGIN:STANDARD
TZOFFSETFROM:+0200
TZOFFSETTO:+0100
TZNAME:CET
DTSTART:20251026T010000
END:STANDARD
END:VTIMEZONE
BEGIN:VEVENT
DTSTART;TZID=Europe/Amsterdam:20250902T193000
DTEND;TZID=Europe/Amsterdam:20250902T203000
DTSTAMP:20260421T125952
CREATED:20250901T065923Z
LAST-MODIFIED:20250901T065923Z
UID:3592-1756841400-1756845000@scientiae.nl
SUMMARY:Lezing - Toetssteen der ware en valse genade - A. Visser - Alblasserdam
DESCRIPTION:
URL:https://scientiae.nl/lezing/lezing-toetssteen-der-ware-en-valse-genade-a-visser-alblasserdam/
LOCATION:de Poort\, Randweg 141\, Alblasserdam\, 2951 AK\, Nederland
END:VEVENT
BEGIN:VEVENT
DTSTART;TZID=Europe/Amsterdam:20250913T193000
DTEND;TZID=Europe/Amsterdam:20250913T203000
DTSTAMP:20260421T125952
CREATED:20250901T070030Z
LAST-MODIFIED:20250901T070030Z
UID:3594-1757791800-1757795400@scientiae.nl
SUMMARY:Lezing - Toetssteen der ware en valse genade - A. Visser - Alblasserdam
DESCRIPTION:
URL:https://scientiae.nl/lezing/lezing-toetssteen-der-ware-en-valse-genade-a-visser-alblasserdam-2/
LOCATION:de Poort\, Randweg 141\, Alblasserdam\, 2951 AK\, Nederland
END:VEVENT
BEGIN:VEVENT
DTSTART;TZID=Europe/Amsterdam:20250927T190000
DTEND;TZID=Europe/Amsterdam:20250927T200000
DTSTAMP:20260421T125952
CREATED:20250924T121646Z
LAST-MODIFIED:20250924T121646Z
UID:3612-1758999600-1759003200@scientiae.nl
SUMMARY:Lezing - Toetssteen der ware en valse genade - Theodorus van der Groe - Oud Alblas
DESCRIPTION:
URL:https://scientiae.nl/lezing/lezing-toetssteen-der-ware-en-valse-genade-theodorus-van-der-groe-oud-alblas/
LOCATION:Kerkstraat 1c\, Oud Alblas\, Kerkstraat 1c\, Oud Alblas\, Netherlands
END:VEVENT
END:VCALENDAR