BEGIN:VCALENDAR
VERSION:2.0
PRODID:-//Scientiae - ECPv6.8.3//NONSGML v1.0//EN
CALSCALE:GREGORIAN
METHOD:PUBLISH
X-WR-CALNAME:Scientiae
X-ORIGINAL-URL:https://scientiae.nl
X-WR-CALDESC:Evenementen voor Scientiae
REFRESH-INTERVAL;VALUE=DURATION:PT1H
X-Robots-Tag:noindex
X-PUBLISHED-TTL:PT1H
BEGIN:VTIMEZONE
TZID:Europe/Amsterdam
BEGIN:DAYLIGHT
TZOFFSETFROM:+0100
TZOFFSETTO:+0200
TZNAME:CEST
DTSTART:20230326T010000
END:DAYLIGHT
BEGIN:STANDARD
TZOFFSETFROM:+0200
TZOFFSETTO:+0100
TZNAME:CET
DTSTART:20231029T010000
END:STANDARD
END:VTIMEZONE
BEGIN:VEVENT
DTSTART;TZID=Europe/Amsterdam:20231218T193000
DTEND;TZID=Europe/Amsterdam:20231218T203000
DTSTAMP:20260421T051821
CREATED:20231127T204824Z
LAST-MODIFIED:20231127T204824Z
UID:3045-1702927800-1702931400@scientiae.nl
SUMMARY:Lezing - Dordtse Leerregels
DESCRIPTION:
URL:https://scientiae.nl/lezing/lezing-dordtse-leerregels-31/
LOCATION:de Poort\, Randweg 141\, Alblasserdam\, 2951 AK\, Nederland
END:VEVENT
BEGIN:VEVENT
DTSTART;TZID=Europe/Amsterdam:20231211T193000
DTEND;TZID=Europe/Amsterdam:20231211T203000
DTSTAMP:20260421T051821
CREATED:20231127T204751Z
LAST-MODIFIED:20231127T204751Z
UID:3043-1702323000-1702326600@scientiae.nl
SUMMARY:Lezing - Dordtse Leerregels
DESCRIPTION:
URL:https://scientiae.nl/lezing/lezing-dordtse-leerregels-30/
LOCATION:de Poort\, Randweg 141\, Alblasserdam\, 2951 AK\, Nederland
END:VEVENT
BEGIN:VEVENT
DTSTART;TZID=Europe/Amsterdam:20231204T193000
DTEND;TZID=Europe/Amsterdam:20231204T203000
DTSTAMP:20260421T051821
CREATED:20231127T204714Z
LAST-MODIFIED:20231127T204714Z
UID:3041-1701718200-1701721800@scientiae.nl
SUMMARY:Lezing - Dordtse Leerregels
DESCRIPTION:
URL:https://scientiae.nl/lezing/lezing-dordtse-leerregels-29/
LOCATION:de Poort\, Randweg 141\, Alblasserdam\, 2951 AK\, Nederland
END:VEVENT
BEGIN:VEVENT
DTSTART;TZID=Europe/Amsterdam:20231127T193000
DTEND;TZID=Europe/Amsterdam:20231127T203000
DTSTAMP:20260421T051821
CREATED:20231106T095818Z
LAST-MODIFIED:20231106T095818Z
UID:3031-1701113400-1701117000@scientiae.nl
SUMMARY:Lezing Dordtse Leerregels
DESCRIPTION:
URL:https://scientiae.nl/lezing/lezing-dordtse-leerregels-28/
LOCATION:de Poort\, Randweg 141\, Alblasserdam\, 2951 AK\, Nederland
END:VEVENT
BEGIN:VEVENT
DTSTART;TZID=Europe/Amsterdam:20231120T193000
DTEND;TZID=Europe/Amsterdam:20231120T203000
DTSTAMP:20260421T051821
CREATED:20231106T095739Z
LAST-MODIFIED:20231106T095739Z
UID:3029-1700508600-1700512200@scientiae.nl
SUMMARY:Lezing Dordtse Leerregels
DESCRIPTION:
URL:https://scientiae.nl/lezing/lezing-dordtse-leerregels-27/
LOCATION:de Poort\, Randweg 141\, Alblasserdam\, 2951 AK\, Nederland
END:VEVENT
BEGIN:VEVENT
DTSTART;TZID=Europe/Amsterdam:20231113T193000
DTEND;TZID=Europe/Amsterdam:20231113T203000
DTSTAMP:20260421T051821
CREATED:20231106T095707Z
LAST-MODIFIED:20231106T095707Z
UID:3027-1699903800-1699907400@scientiae.nl
SUMMARY:Lezing Dordtse Leerregels
DESCRIPTION:
URL:https://scientiae.nl/lezing/lezing-dordtse-leerregels-26/
LOCATION:de Poort\, Randweg 141\, Alblasserdam\, 2951 AK\, Nederland
END:VEVENT
BEGIN:VEVENT
DTSTART;TZID=Europe/Amsterdam:20231106T193000
DTEND;TZID=Europe/Amsterdam:20231106T203000
DTSTAMP:20260421T051821
CREATED:20231106T095625Z
LAST-MODIFIED:20231106T095625Z
UID:3025-1699299000-1699302600@scientiae.nl
SUMMARY:Lezing Dordtse Leerregels
DESCRIPTION:
URL:https://scientiae.nl/lezing/lezing-dordtse-leerregels-25/
LOCATION:de Poort\, Randweg 141\, Alblasserdam\, 2951 AK\, Nederland
END:VEVENT
BEGIN:VEVENT
DTSTART;TZID=Europe/Amsterdam:20231030T193000
DTEND;TZID=Europe/Amsterdam:20231030T203000
DTSTAMP:20260421T051821
CREATED:20230920T174141Z
LAST-MODIFIED:20231021T121129Z
UID:2953-1698694200-1698697800@scientiae.nl
SUMMARY:Lezing - Dordtse Leerregels
DESCRIPTION:
URL:https://scientiae.nl/lezing/lezing-dordtse-leerregels-24/
LOCATION:de Poort\, Randweg 141\, Alblasserdam\, 2951 AK\, Nederland
END:VEVENT
BEGIN:VEVENT
DTSTART;TZID=Europe/Amsterdam:20231016T193000
DTEND;TZID=Europe/Amsterdam:20231016T203000
DTSTAMP:20260421T051821
CREATED:20230920T174108Z
LAST-MODIFIED:20230920T174108Z
UID:2951-1697484600-1697488200@scientiae.nl
SUMMARY:Lezing - Dordtse Leerregels
DESCRIPTION:
URL:https://scientiae.nl/lezing/lezing-dordtse-leerregels-23/
LOCATION:de Poort\, Randweg 141\, Alblasserdam\, 2951 AK\, Nederland
END:VEVENT
BEGIN:VEVENT
DTSTART;TZID=Europe/Amsterdam:20231009T080000
DTEND;TZID=Europe/Amsterdam:20231009T170000
DTSTAMP:20260421T051821
CREATED:20230920T174038Z
LAST-MODIFIED:20230920T174038Z
UID:2949-1696838400-1696870800@scientiae.nl
SUMMARY:Lezing - Dordtse Leerregels
DESCRIPTION:
URL:https://scientiae.nl/lezing/lezing-dordtse-leerregels-22/
LOCATION:de Poort\, Randweg 141\, Alblasserdam\, 2951 AK\, Nederland
END:VEVENT
BEGIN:VEVENT
DTSTART;TZID=Europe/Amsterdam:20231002T193000
DTEND;TZID=Europe/Amsterdam:20231002T203000
DTSTAMP:20260421T051821
CREATED:20230920T174006Z
LAST-MODIFIED:20230920T174006Z
UID:2947-1696275000-1696278600@scientiae.nl
SUMMARY:Lezing - Dordtse Leerregels
DESCRIPTION:
URL:https://scientiae.nl/lezing/lezing-dordtse-leerregels-21/
LOCATION:de Poort\, Randweg 141\, Alblasserdam\, 2951 AK\, Nederland
END:VEVENT
BEGIN:VEVENT
DTSTART;TZID=Europe/Amsterdam:20230926T193000
DTEND;TZID=Europe/Amsterdam:20230926T203000
DTSTAMP:20260421T051821
CREATED:20230914T195722Z
LAST-MODIFIED:20230920T173920Z
UID:2941-1695756600-1695760200@scientiae.nl
SUMMARY:Lezing - Dordtse Leerregels - Alblasserdam
DESCRIPTION:
URL:https://scientiae.nl/lezing/lezing-dordtse-leerregels-alblasserdam-4/
LOCATION:de Poort\, Randweg 141\, Alblasserdam\, 2951 AK\, Nederland
END:VEVENT
BEGIN:VEVENT
DTSTART;TZID=Europe/Amsterdam:20230918T193000
DTEND;TZID=Europe/Amsterdam:20230918T203000
DTSTAMP:20260421T051821
CREATED:20230914T195629Z
LAST-MODIFIED:20230914T195629Z
UID:2939-1695065400-1695069000@scientiae.nl
SUMMARY:Lezing - Dordtse Leerregels - Alblasserdam
DESCRIPTION:
URL:https://scientiae.nl/lezing/lezing-dordtse-leerregels-alblasserdam-3/
LOCATION:de Poort\, Randweg 141\, Alblasserdam\, 2951 AK\, Nederland
END:VEVENT
BEGIN:VEVENT
DTSTART;TZID=Europe/Amsterdam:20230911T193000
DTEND;TZID=Europe/Amsterdam:20230911T203000
DTSTAMP:20260421T051821
CREATED:20230914T195600Z
LAST-MODIFIED:20230914T195600Z
UID:2937-1694460600-1694464200@scientiae.nl
SUMMARY:Lezing - Dordtse Leerregels - Alblasserdam
DESCRIPTION:
URL:https://scientiae.nl/lezing/lezing-dordtse-leerregels-alblasserdam-2/
LOCATION:de Poort\, Randweg 141\, Alblasserdam\, 2951 AK\, Nederland
END:VEVENT
BEGIN:VEVENT
DTSTART;TZID=Europe/Amsterdam:20230904T193000
DTEND;TZID=Europe/Amsterdam:20230904T203000
DTSTAMP:20260421T051821
CREATED:20230914T195525Z
LAST-MODIFIED:20230914T195525Z
UID:2935-1693855800-1693859400@scientiae.nl
SUMMARY:Lezing - Dordtse Leerregels - Alblasserdam
DESCRIPTION:
URL:https://scientiae.nl/lezing/lezing-dordtse-leerregels-alblasserdam/
LOCATION:de Poort\, Randweg 141\, Alblasserdam\, 2951 AK\, Nederland
END:VEVENT
BEGIN:VEVENT
DTSTART;TZID=Europe/Amsterdam:20230828T193000
DTEND;TZID=Europe/Amsterdam:20230828T203000
DTSTAMP:20260421T051821
CREATED:20230729T125326Z
LAST-MODIFIED:20230729T125326Z
UID:2914-1693251000-1693254600@scientiae.nl
SUMMARY:Lezing - Dordtse Leerregels
DESCRIPTION:
URL:https://scientiae.nl/lezing/lezing-dordtse-leerregels-20/
LOCATION:de Poort\, Randweg 141\, Alblasserdam\, 2951 AK\, Nederland
END:VEVENT
BEGIN:VEVENT
DTSTART;TZID=Europe/Amsterdam:20230821T193000
DTEND;TZID=Europe/Amsterdam:20230821T203000
DTSTAMP:20260421T051821
CREATED:20230729T125206Z
LAST-MODIFIED:20230729T125206Z
UID:2912-1692646200-1692649800@scientiae.nl
SUMMARY:Lezing - Dordtse Leerregels
DESCRIPTION:
URL:https://scientiae.nl/lezing/lezing-dordtse-leerregels-19/
LOCATION:de Poort\, Randweg 141\, Alblasserdam\, 2951 AK\, Nederland
END:VEVENT
BEGIN:VEVENT
DTSTART;TZID=Europe/Amsterdam:20230814T193000
DTEND;TZID=Europe/Amsterdam:20230814T203000
DTSTAMP:20260421T051821
CREATED:20230729T124815Z
LAST-MODIFIED:20230729T124815Z
UID:2910-1692041400-1692045000@scientiae.nl
SUMMARY:Lezing - Dordtse Leerregels
DESCRIPTION:
URL:https://scientiae.nl/lezing/lezing-dordtse-leerregels-18/
LOCATION:de Poort\, Randweg 141\, Alblasserdam\, 2951 AK\, Nederland
END:VEVENT
BEGIN:VEVENT
DTSTART;TZID=Europe/Amsterdam:20230731T193000
DTEND;TZID=Europe/Amsterdam:20230731T203000
DTSTAMP:20260421T051821
CREATED:20230729T124707Z
LAST-MODIFIED:20230729T124707Z
UID:2908-1690831800-1690835400@scientiae.nl
SUMMARY:Lezing - Dordtse Leerregels
DESCRIPTION:
URL:https://scientiae.nl/lezing/lezing-dordtse-leerregels-17/
LOCATION:de Poort\, Randweg 141\, Alblasserdam\, 2951 AK\, Nederland
END:VEVENT
BEGIN:VEVENT
DTSTART;TZID=Europe/Amsterdam:20230724T193000
DTEND;TZID=Europe/Amsterdam:20230724T203000
DTSTAMP:20260421T051821
CREATED:20230711T062015Z
LAST-MODIFIED:20230711T062015Z
UID:2899-1690227000-1690230600@scientiae.nl
SUMMARY:Lezing - Dordtse Leerregels
DESCRIPTION:
URL:https://scientiae.nl/lezing/lezing-dordtse-leerregels-16/
LOCATION:de Poort\, Randweg 141\, Alblasserdam\, 2951 AK\, Nederland
END:VEVENT
BEGIN:VEVENT
DTSTART;TZID=Europe/Amsterdam:20230710T193000
DTEND;TZID=Europe/Amsterdam:20230710T203000
DTSTAMP:20260421T051821
CREATED:20230711T061924Z
LAST-MODIFIED:20230711T061924Z
UID:2897-1689017400-1689021000@scientiae.nl
SUMMARY:Lezing - Dordtse Leerregels
DESCRIPTION:
URL:https://scientiae.nl/lezing/lezing-dordtse-leerregels-15/
LOCATION:de Poort\, Randweg 141\, Alblasserdam\, 2951 AK\, Nederland
END:VEVENT
BEGIN:VEVENT
DTSTART;TZID=Europe/Amsterdam:20230703T193000
DTEND;TZID=Europe/Amsterdam:20230703T203000
DTSTAMP:20260421T051821
CREATED:20230623T185719Z
LAST-MODIFIED:20230623T185719Z
UID:2889-1688412600-1688416200@scientiae.nl
SUMMARY:Lezing Dordtse Leerregels
DESCRIPTION:
URL:https://scientiae.nl/lezing/lezing-dordtse-leerregels-14/
LOCATION:de Poort\, Randweg 141\, Alblasserdam\, 2951 AK\, Nederland
END:VEVENT
BEGIN:VEVENT
DTSTART;TZID=Europe/Amsterdam:20230626T193000
DTEND;TZID=Europe/Amsterdam:20230626T203000
DTSTAMP:20260421T051821
CREATED:20230623T185646Z
LAST-MODIFIED:20230623T185646Z
UID:2887-1687807800-1687811400@scientiae.nl
SUMMARY:Lezing Dordtse Leerregels
DESCRIPTION:
URL:https://scientiae.nl/lezing/lezing-dordtse-leerregels-13/
LOCATION:de Poort\, Randweg 141\, Alblasserdam\, 2951 AK\, Nederland
END:VEVENT
BEGIN:VEVENT
DTSTART;TZID=Europe/Amsterdam:20230619T193000
DTEND;TZID=Europe/Amsterdam:20230619T203000
DTSTAMP:20260421T051821
CREATED:20230623T185537Z
LAST-MODIFIED:20230623T185537Z
UID:2885-1687203000-1687206600@scientiae.nl
SUMMARY:Lezing Dordtse Leerregels
DESCRIPTION:
URL:https://scientiae.nl/lezing/lezing-dordtse-leerregels-12/
LOCATION:de Poort\, Randweg 141\, Alblasserdam\, 2951 AK\, Nederland
END:VEVENT
BEGIN:VEVENT
DTSTART;TZID=Europe/Amsterdam:20230612T193000
DTEND;TZID=Europe/Amsterdam:20230612T203000
DTSTAMP:20260421T051821
CREATED:20230530T101549Z
LAST-MODIFIED:20230530T101549Z
UID:2873-1686598200-1686601800@scientiae.nl
SUMMARY:Lezing Dordtse Leerregels
DESCRIPTION:
URL:https://scientiae.nl/lezing/lezing-dordtse-leerregels-11/
LOCATION:de Poort\, Randweg 141\, Alblasserdam\, 2951 AK\, Nederland
END:VEVENT
BEGIN:VEVENT
DTSTART;TZID=Europe/Amsterdam:20230605T193000
DTEND;TZID=Europe/Amsterdam:20230605T203000
DTSTAMP:20260421T051821
CREATED:20230530T101436Z
LAST-MODIFIED:20230530T101503Z
UID:2871-1685993400-1685997000@scientiae.nl
SUMMARY:Lezing Dordtse Leerregels
DESCRIPTION:
URL:https://scientiae.nl/lezing/lezing-dordtse-leerregels-10/
LOCATION:de Poort\, Randweg 141\, Alblasserdam\, 2951 AK\, Nederland
END:VEVENT
BEGIN:VEVENT
DTSTART;TZID=Europe/Amsterdam:20230522T193000
DTEND;TZID=Europe/Amsterdam:20230522T203000
DTSTAMP:20260421T051821
CREATED:20230501T083542Z
LAST-MODIFIED:20230501T083542Z
UID:2847-1684783800-1684787400@scientiae.nl
SUMMARY:Lezing Dordtse Leerregels
DESCRIPTION:
URL:https://scientiae.nl/lezing/lezing-dordtse-leerregels-9/
LOCATION:de Poort\, Randweg 141\, Alblasserdam\, 2951 AK\, Nederland
END:VEVENT
BEGIN:VEVENT
DTSTART;TZID=Europe/Amsterdam:20230515T193000
DTEND;TZID=Europe/Amsterdam:20230515T203000
DTSTAMP:20260421T051821
CREATED:20230501T083503Z
LAST-MODIFIED:20230501T083503Z
UID:2845-1684179000-1684182600@scientiae.nl
SUMMARY:Lezing Dordtse leerregels
DESCRIPTION:
URL:https://scientiae.nl/lezing/lezing-dordtse-leerregels-8/
LOCATION:de Poort\, Randweg 141\, Alblasserdam\, 2951 AK\, Nederland
END:VEVENT
BEGIN:VEVENT
DTSTART;TZID=Europe/Amsterdam:20230508T193000
DTEND;TZID=Europe/Amsterdam:20230508T203000
DTSTAMP:20260421T051821
CREATED:20230501T083428Z
LAST-MODIFIED:20230501T083428Z
UID:2843-1683574200-1683577800@scientiae.nl
SUMMARY:Lezing Dordtse Leerregels
DESCRIPTION:
URL:https://scientiae.nl/lezing/lezing-dordtse-leerregels-7/
LOCATION:de Poort\, Randweg 141\, Alblasserdam\, 2951 AK\, Nederland
END:VEVENT
BEGIN:VEVENT
DTSTART;TZID=Europe/Amsterdam:20230501T193000
DTEND;TZID=Europe/Amsterdam:20230501T203000
DTSTAMP:20260421T051821
CREATED:20230501T083351Z
LAST-MODIFIED:20230501T083351Z
UID:2841-1682969400-1682973000@scientiae.nl
SUMMARY:Lezing Dordtse Leerregels
DESCRIPTION:
URL:https://scientiae.nl/lezing/lezing-dordtse-leerregels-6/
LOCATION:de Poort\, Randweg 141\, Alblasserdam\, 2951 AK\, Nederland
END:VEVENT
END:VCALENDAR