BEGIN:VCALENDAR
VERSION:2.0
PRODID:-//Scientiae - ECPv6.8.3//NONSGML v1.0//EN
CALSCALE:GREGORIAN
METHOD:PUBLISH
X-WR-CALNAME:Scientiae
X-ORIGINAL-URL:https://scientiae.nl
X-WR-CALDESC:Evenementen voor Scientiae
REFRESH-INTERVAL;VALUE=DURATION:PT1H
X-Robots-Tag:noindex
X-PUBLISHED-TTL:PT1H
BEGIN:VTIMEZONE
TZID:Europe/Amsterdam
BEGIN:DAYLIGHT
TZOFFSETFROM:+0100
TZOFFSETTO:+0200
TZNAME:CEST
DTSTART:20250330T010000
END:DAYLIGHT
BEGIN:STANDARD
TZOFFSETFROM:+0200
TZOFFSETTO:+0100
TZNAME:CET
DTSTART:20251026T010000
END:STANDARD
END:VTIMEZONE
BEGIN:VEVENT
DTSTART;TZID=Europe/Amsterdam:20251025T190000
DTEND;TZID=Europe/Amsterdam:20251025T200000
DTSTAMP:20260421T154246
CREATED:20250924T121842Z
LAST-MODIFIED:20250924T121842Z
UID:3617-1761418800-1761422400@scientiae.nl
SUMMARY:Lezing – Toetssteen der ware en valse genade – Theodorus van der Groe – Oud Alblas
DESCRIPTION:
URL:https://scientiae.nl/lezing/lezing-toetssteen-der-ware-en-valse-genade-theodorus-van-der-groe-oud-alblas-3/
LOCATION:Kerkstraat 1c\, Oud Alblas\, Kerkstraat 1c\, Oud Alblas\, Netherlands
END:VEVENT
END:VCALENDAR