BEGIN:VCALENDAR
VERSION:2.0
PRODID:-//Scientiae - ECPv6.8.3//NONSGML v1.0//EN
CALSCALE:GREGORIAN
METHOD:PUBLISH
X-WR-CALNAME:Scientiae
X-ORIGINAL-URL:https://scientiae.nl
X-WR-CALDESC:Evenementen voor Scientiae
REFRESH-INTERVAL;VALUE=DURATION:PT1H
X-Robots-Tag:noindex
X-PUBLISHED-TTL:PT1H
BEGIN:VTIMEZONE
TZID:Europe/Amsterdam
BEGIN:DAYLIGHT
TZOFFSETFROM:+0100
TZOFFSETTO:+0200
TZNAME:CEST
DTSTART:20250330T010000
END:DAYLIGHT
BEGIN:STANDARD
TZOFFSETFROM:+0200
TZOFFSETTO:+0100
TZNAME:CET
DTSTART:20251026T010000
END:STANDARD
END:VTIMEZONE
BEGIN:VEVENT
DTSTART;TZID=Europe/Amsterdam:20250212T193000
DTEND;TZID=Europe/Amsterdam:20250212T203000
DTSTAMP:20260421T001432
CREATED:20250107T085401Z
LAST-MODIFIED:20250107T085401Z
UID:3334-1739388600-1739392200@scientiae.nl
SUMMARY:Lezing - Alblasserdam - A. Visser
DESCRIPTION:
URL:https://scientiae.nl/lezing/lezing-alblasserdam-a-visser-3/
LOCATION:de Poort\, Randweg 141\, Alblasserdam\, 2951 AK\, Nederland
END:VEVENT
END:VCALENDAR