BEGIN:VCALENDAR
VERSION:2.0
PRODID:-//Scientiae - ECPv6.8.3//NONSGML v1.0//EN
CALSCALE:GREGORIAN
METHOD:PUBLISH
X-WR-CALNAME:Scientiae
X-ORIGINAL-URL:https://scientiae.nl
X-WR-CALDESC:Evenementen voor Scientiae
REFRESH-INTERVAL;VALUE=DURATION:PT1H
X-Robots-Tag:noindex
X-PUBLISHED-TTL:PT1H
BEGIN:VTIMEZONE
TZID:Europe/Amsterdam
BEGIN:DAYLIGHT
TZOFFSETFROM:+0100
TZOFFSETTO:+0200
TZNAME:CEST
DTSTART:20240331T010000
END:DAYLIGHT
BEGIN:STANDARD
TZOFFSETFROM:+0200
TZOFFSETTO:+0100
TZNAME:CET
DTSTART:20241027T010000
END:STANDARD
END:VTIMEZONE
BEGIN:VEVENT
DTSTART;TZID=Europe/Amsterdam:20241127T193000
DTEND;TZID=Europe/Amsterdam:20241127T203000
DTSTAMP:20260421T065103
CREATED:20240930T080640Z
LAST-MODIFIED:20240930T080640Z
UID:3249-1732735800-1732739400@scientiae.nl
SUMMARY:Lezing - Nederlandse geloofsbelijdenis - A. Visser - Alblasserdam
DESCRIPTION:
URL:https://scientiae.nl/lezing/lezing-nederlandse-geloofsbelijdenis-a-visser-alblasserdam-5/
LOCATION:de Poort\, Randweg 141\, Alblasserdam\, 2951 AK\, Nederland
END:VEVENT
END:VCALENDAR